BEGIN:VCALENDAR
VERSION:2.0
PRODID:Events Booking
BEGIN:VEVENT
UID:69ea47bca690a
SUMMARY:YYC Pub Night @ Bottlescrew Bills
DESCRIPTION:Pub night at Bottlescrew Bills.
 140 10 Ave SW\, Calgary\, AB 
 T2R 0A3\, Canada
DTSTART:20250206T030000Z
DTEND:20250206T050000Z
DTSTAMP:20250204T112723Z
ORGANIZER;CN=Alberta Speleological Society:MAILTO:info@caving.ab.ca
END:VEVENT
END:VCALENDAR