BEGIN:VCALENDAR
VERSION:2.0
PRODID:Events Booking
BEGIN:VEVENT
UID:69e94ba533c32
SUMMARY:SRT 102
DESCRIPTION:The Frog System SRT 102 (Single Rope Technique) on April 20\, 2
 025
 For those that have already taken our 101 course\, or are just looki
 ng for that next step up in vertical caving techniques.  The course will 
 include\, review of the basics\, knot passing\, rope transfers\, rebelays 
 and much more. 
   
 
  Details: 
  • Date: April 20\, 2025
 
  • Location: Horne Lake Caves Provincial Park
 • Duration: Approxima
 tely 6 hours 
  • Cost: $100 per person 
  • Course Details: The
  course will take place above ground using BC Cave Rescue practice cables 
 and a rappel tower. 
  
 
  To reserve your spot (or if you have any
  questions)\, you can call us at 250-248-7829 or email hiddenrealmadventu
 res@gmail.com. 
  
 Spaces are limited\, so be sure to book early!  
LOCATION:3905 Horne Lake Caves Rd\, Qualicum Beach\, BC V9K 2L7\, Canada
DTSTART:20250420T140000Z
DTEND:20250420T220000Z
DTSTAMP:20250313T081031Z
ORGANIZER;CN=Alberta Speleological Society:MAILTO:info@caving.ab.ca
GEO:49.351894;-124.741679
X-APPLE-STRUCTURED-LOCATION;VALUE=URI;X-ADDRESS=3905 Horne Lake Caves Rd\, 
 Qualicum Beach\, BC V9K 2L7\, Canada;X-APPLE-RADIUS=72;X-TITLE=Horne Lake:
 49.351894;-124.741679
END:VEVENT
END:VCALENDAR