BEGIN:VCALENDAR
VERSION:2.0
PRODID:Events Booking
BEGIN:VEVENT
UID:69e922bd10eaa
SUMMARY:SAGM 2025
DESCRIPTION:We are going to the Crowsnest Pass for the Semi Annual General 
 Meeting. More details to come closer to the date\, as objectives will be w
 eather and snow level dependant.
 Options:  Red October\, Booming Ice Ch
 asm\, Serendipity\, Flop Pot\, Coulthart\, River Gone Dream\, The INcredib
 le Cream Hole. 
 Sunday we will do rope practice\, and discuss club busi
 ness.
LOCATION:Crowsnest Pass\, AB T0K 0M0\, Canada
DTSTART:20250510T060000Z
DTEND:20250511T060000Z
DTSTAMP:20250313T075643Z
ORGANIZER;CN=Alberta Speleological Society:MAILTO:info@caving.ab.ca
GEO:49.633333;-114.7
X-APPLE-STRUCTURED-LOCATION;VALUE=URI;X-ADDRESS=Crowsnest Pass\, AB T0K 0M0
 \, Canada;X-APPLE-RADIUS=72;X-TITLE=Crowsnest:49.633333;-114.7
END:VEVENT
END:VCALENDAR