BEGIN:VCALENDAR
VERSION:2.0
PRODID:Events Booking
BEGIN:VEVENT
UID:69e922fc3c264
SUMMARY:Crowsnest Spring Cave
DESCRIPTION:One of the trips offered at the SAGM this year will be visiting
  the Crowsnest Spring Cave on Crowsnest Lake. We will canoe over as a grou
 p to see the cave and its featured pictographs. The Nature Conservancy of 
 Canada (NCC) has been working there to preserve the site and its history\,
  and one of their representatives will likely accompany us to explain thei
 r work at the cave\, its history\, and how they have been working with the
  local Indigenous groups.
LOCATION:Crowsnest Pass\, AB T0K 0M0\, Canada
DTSTART:20250510T190000Z
DTEND:20250510T210000Z
DTSTAMP:20250327T095554Z
ORGANIZER;CN=Alberta Speleological Society:MAILTO:info@caving.ab.ca
GEO:49.633333;-114.7
X-APPLE-STRUCTURED-LOCATION;VALUE=URI;X-ADDRESS=Crowsnest Pass\, AB T0K 0M0
 \, Canada;X-APPLE-RADIUS=72;X-TITLE=Crowsnest:49.633333;-114.7
END:VEVENT
END:VCALENDAR