BEGIN:VCALENDAR
VERSION:2.0
PRODID:Events Booking
BEGIN:VEVENT
UID:69ecb9f28ae40
SUMMARY:Canyon Festival
DESCRIPTION:book on : https://www.banffcanyoning.ca/2024-canadian-rockies-
 canyon-festival/
LOCATION:Calgary\, AB\, Canada
DTSTART:20240712T230000Z
DTEND:20240714T230000Z
DTSTAMP:20240608T003250Z
ORGANIZER;CN=Alberta Speleological Society:MAILTO:info@caving.ab.ca
GEO:51.044733;-114.071883
X-APPLE-STRUCTURED-LOCATION;VALUE=URI;X-ADDRESS=Calgary\, AB\, Canada;X-APP
 LE-RADIUS=72;X-TITLE=Virtual:51.044733;-114.071883
END:VEVENT
END:VCALENDAR