BEGIN:VCALENDAR
VERSION:2.0
PRODID:Events Booking
BEGIN:VEVENT
UID:69eba86b47408
SUMMARY:Bisaro Anima
DESCRIPTION:Push Bisaro Anima and the Hood. Heli trip. Contact k8mgraham@gm
 ail.com if you are interested
LOCATION:Fernie\, BC\, Canada
DTSTART:20241012T060000Z
DTEND:20241020T060000Z
DTSTAMP:20240712T070634Z
ORGANIZER;CN=Alberta Speleological Society:MAILTO:info@caving.ab.ca
GEO:49.504045;-115.063065
X-APPLE-STRUCTURED-LOCATION;VALUE=URI;X-ADDRESS=Fernie\, BC\, Canada;X-APPL
 E-RADIUS=72;X-TITLE=Fernie:49.504045;-115.063065
END:VEVENT
END:VCALENDAR