BEGIN:VCALENDAR
VERSION:2.0
PRODID:Events Booking
BEGIN:VEVENT
UID:69eccea767794
SUMMARY:Alberta Speleological Society SAGM
DESCRIPTION:We are looking forward to returning to Crowsnest Pass for this 
 years SAGM.
 Primary objective this year is to overnight camp in Gargantu
 a July 6th for any cavers who have not had the opportunity to camp in a ca
 ve\, would like some extra practice\, or miss the taste of rocks in their 
 dinner.
 
 Prospective Day trips include:
 - Serendipity Ice cave
 - R
 ed October
 - Booming Ice chasm
 - Climbing at Emerald Lake
 - Climbing
  Cleft Window
 
 AB/BC Side approach TBD
LOCATION:Crowsnest Pass\, AB T0K 0M0\, Canada
DTSTART:20240706T060000Z
DTEND:20240708T054500Z
DTSTAMP:20240507T030849Z
ORGANIZER;CN=Alberta Speleological Society:MAILTO:info@caving.ab.ca
GEO:49.633333;-114.7
X-APPLE-STRUCTURED-LOCATION;VALUE=URI;X-ADDRESS=Crowsnest Pass\, AB T0K 0M0
 \, Canada;X-APPLE-RADIUS=72;X-TITLE=Crowsnest:49.633333;-114.7
END:VEVENT
END:VCALENDAR